BEGIN:VCALENDAR
VERSION:2.0
PRODID:-//hacksw/handcal//NONSGML v1.0//EN
BEGIN:VEVENT
SUMMARY:Entretien terrain et BBQ
UID:3cf114f5-6c78-4947-836a-41f54229be26
DTSTART:20260415T070000Z
DTEND:20260415T130000Z
LOCATION:Localisation   
CATEGORIES:Festif
STATUS:
URL;VALUE=URI:https://www.archers-sud-goelo.fr/evenements/2026/04/15/entretien-terrain-et-bbq-2439287
END:VEVENT
END:VCALENDAR
