BEGIN:VCALENDAR
VERSION:2.0
PRODID:-//hacksw/handcal//NONSGML v1.0//EN
BEGIN:VEVENT
SUMMARY:Tir du Roy
UID:241599af-b07b-4bac-ba1b-769ab02eafc2
DTSTART:20260523T070000Z
DTEND:20260523T130000Z
LOCATION:Localisation   
CATEGORIES:Festif
STATUS:
URL;VALUE=URI:https://www.archers-sud-goelo.fr/evenements/2026/05/23/tir-du-roy-2424844
END:VEVENT
END:VCALENDAR
