BEGIN:VCALENDAR
VERSION:2.0
PRODID:-//hacksw/handcal//NONSGML v1.0//EN
BEGIN:VEVENT
SUMMARY:Salle de l'Esperance NON DISPONIBLE
UID:45e9c6fc-0fa4-4b85-bd57-03abca535174
DTSTART:20260703T060000Z
DTEND:20260708T120000Z
LOCATION:Localisation   
CATEGORIES:Administratif
STATUS:
URL;VALUE=URI:https://www.archers-sud-goelo.fr/evenements/2026/07/03/salle-de-lesperance-non-disponible-2432891
END:VEVENT
END:VCALENDAR
